BEGIN:VCALENDAR
VERSION:2.0
PRODID:-//Green Salem - ECPv6.15.11//NONSGML v1.0//EN
CALSCALE:GREGORIAN
METHOD:PUBLISH
X-WR-CALNAME:Green Salem
X-ORIGINAL-URL:https://greensalem.com
X-WR-CALDESC:Events for Green Salem
REFRESH-INTERVAL;VALUE=DURATION:PT1H
X-Robots-Tag:noindex
X-PUBLISHED-TTL:PT1H
BEGIN:VTIMEZONE
TZID:America/New_York
BEGIN:DAYLIGHT
TZOFFSETFROM:-0500
TZOFFSETTO:-0400
TZNAME:EDT
DTSTART:20250309T070000
END:DAYLIGHT
BEGIN:STANDARD
TZOFFSETFROM:-0400
TZOFFSETTO:-0500
TZNAME:EST
DTSTART:20251102T060000
END:STANDARD
BEGIN:DAYLIGHT
TZOFFSETFROM:-0500
TZOFFSETTO:-0400
TZNAME:EDT
DTSTART:20260308T070000
END:DAYLIGHT
BEGIN:STANDARD
TZOFFSETFROM:-0400
TZOFFSETTO:-0500
TZNAME:EST
DTSTART:20261101T060000
END:STANDARD
BEGIN:DAYLIGHT
TZOFFSETFROM:-0500
TZOFFSETTO:-0400
TZNAME:EDT
DTSTART:20270314T070000
END:DAYLIGHT
BEGIN:STANDARD
TZOFFSETFROM:-0400
TZOFFSETTO:-0500
TZNAME:EST
DTSTART:20271107T060000
END:STANDARD
END:VTIMEZONE
BEGIN:VEVENT
DTSTART;TZID=America/New_York:20260516T090000
DTEND;TZID=America/New_York:20260516T120000
DTSTAMP:20260424T075459
CREATED:20260127T175437Z
LAST-MODIFIED:20260127T175437Z
UID:8652-1778922000-1778932800@greensalem.com
SUMMARY:Repair Cafe and TerraCycle Collection
DESCRIPTION:Don’t throw away your broken item – bring it to the Repair Café!  Zero Waste Salem will be hosting a Repair Café on Saturday\, May 16 from 9am-12 noon at the Community Life Center at 401 Bridge Street.  Appointments are required and walk-ins will not be accepted. Pre-registration is required via link (stay tuned for updates) or email zerowastesalemma@gmail.com. \nRepair volunteers at this event will be available to mend clothing\, sew buttons\, and tinker with or rewire electronics and lamps. Please keep in mind these services may change as we confirm volunteers. We hope to see you at this fun event where you can learn how to fix things and reduce your waste! \nTERRACYCLE — We’re collecting FIVE TerraCycle brigades of otherwise hard-to-recycle items. Please keep each TerraCycle stream separate.\n** Swiffers: All used\, dried Swiffer pads.\n** Razors: All brands of reusable and disposable razors\, blades & cartridges\, as well as any flexible or rigid plastic packaging they come in.\n** Dental Care: Non-electric toothbrushes\, toothpaste tubes\, & floss containers. All brands\, plus toothbrush packaging.\n**Brita: Brita dispenser\, Brita pitchers\, Brita bottles\, Brita standard filters\, Brita Stream filters\, Brita bottle filters\, Brita filter packaging\, Brita Longlast® filters\, Brita Stream® pitchers.\n**Burt’s Bees – Burt’s Bees lip balm\, tinted lip care\, and lip treatment packaging; Burt’s Bees tubes\, caps\, wands\, bottles\, and pumps; outer packaging for Burt’s Bees towelettes and sheet mask; Burt’s Bees plastic compacts.\n\nIMPORTANT CHANGE: No deodorant or mouthwash bottles accepted as of January 1\, 2025. Please place mouthwash bottles with cap on into curbside recycling carts.
URL:https://greensalem.com/event/repair-cafe-terracycle-collection-8/
LOCATION:MA
END:VEVENT
BEGIN:VEVENT
DTSTART;TZID=America/New_York:20260620T100000
DTEND;TZID=America/New_York:20260620T130000
DTSTAMP:20260424T075459
CREATED:20260413T112113Z
LAST-MODIFIED:20260416T130010Z
UID:8715-1781949600-1781960400@greensalem.com
SUMMARY:Styrofoam Collection Event
DESCRIPTION:Styrofoam Recycling Event – Save Your Styrofoam! \nSaturday\, June 20\, 2026\, 10:00 AM – 1:00 PM\nCommunity Life Center\, 401 Bridge St\, Salem\, MA \nSalem and Beverly partner once again to host Styrofoam Collection Day on Saturday\, June 20\, 2026\, from 10:00am – 1:00pm. Hold on to your foam\, as Casella (formerly Save that Stuff) will collect it to recycle! This is a drive-through event at the Community Life Center\, 401 Bridge St\, Salem\, MA. Residents of Salem and Beverly may participate. \nPlease bring only rigid\, white\, expanded polystyrene (Styrofoam). No packaging peanuts or food service containers\, such as meat trays\, clamshells\, or Styrofoam cups can be accepted. While Styrofoam cannot be recycled curbside\, Casella has densifiers that can process the material for recycling. We’re excited to offer residents a way to sustainably dispose of their Styrofoam! \nVOLUNTEERS needed for two shifts\, 10:00-11:30AM and 11:30-1:15. \nTo volunteer\, or for more info\, contact: Alisa Cherkasova at acherkasova@salem.com or (978) 619-5672 or 978-594-3938 \n \n 
URL:https://greensalem.com/event/styrofoam-collection-event-3/
LOCATION:Community Life center\, 401 Bridge St\, Salem\, MA\, 01970\, United States
END:VEVENT
BEGIN:VEVENT
DTSTART;TZID=America/New_York:20260627T080000
DTEND;TZID=America/New_York:20260627T120000
DTSTAMP:20260424T075459
CREATED:20251223T170709Z
LAST-MODIFIED:20251223T170709Z
UID:8628-1782547200-1782561600@greensalem.com
SUMMARY:E-Waste Recycling Event
DESCRIPTION:$20 cash or check\, per unit: TVs\, Monitors\, Microwaves\, dehumidifiers\, ACs\, vacuum cleaners. \n$40 cash or check\, per unit: Refrigerators\, Exercise Equipment\, battery-powered lawn equipment\, free-standing electronic devices such as fireplaces\, heaters\, air hockey tables\, etc.   \nAll Other Electronic Items: FREE Including: Computer towers\, laptops\, tablets\, cellphones\, small appliances\, household electronics including phones\, printers\, fax machines\, cd players\, etc.     \nIf your item is still in good working condition\, consider donating it via one of the local Buy Nothing pages or other swap groups. \n2026 E-Waste Flyer
URL:https://greensalem.com/event/e-waste-recycling-event-13/
LOCATION:Salem High School\, 77 Willson Street\, Salem\, MA\, 01970\, United States
END:VEVENT
BEGIN:VEVENT
DTSTART;TZID=America/New_York:20260919T100000
DTEND;TZID=America/New_York:20260919T130000
DTSTAMP:20260424T075459
CREATED:20260204T194314Z
LAST-MODIFIED:20260204T194314Z
UID:8662-1789812000-1789822800@greensalem.com
SUMMARY:Zero Waste Salem Free Book Swap and TerraCycle Collection
DESCRIPTION:Zero Waste Salem Free Book Swap returns to the Community Life Center at 401 Bridge Street on Saturday\, September 19 from 10:00am-1:00pm! Swapping isn’t necessary — you may donate\, take away\, or both.\nWe accept ONLY books\, CDs\, DVDs\, records (all in original cases\, please)\, plus puzzles and greeting cards. We are also accepting bags (paper\, plastic\, grocery\, cloth) for swapping.\nAll items must be clean\, dry\, and mildew free.\n\nTO DONATE\, please drop off at the Community Life Center on Friday\, September 18 from 4:00-7:00pm\, or Saturday\, September 19 from 9:00am-noon. Remaining items will be donated.\n\n\n\n\n\n\n\nPlease understand that our volunteers will have to sort through and trash anything except the accepted items. Please respect volunteers’ time and health and \nDO NOT bring magazines\, VHS\, old/mildewed/outdated books\, home CDs\, binders\, and cassette tapes. \n\n\n\n\n\nTERRACYCLE — We’re collecting FIVE TerraCycle categories of otherwise hard-to-recycle items. Please keep each TerraCycle stream separate.\n** Swiffers: All used\, dried Swiffer pads.\n** Razors: All brands of reusable and disposable razors\, blades & cartridges\, as well as any flexible or rigid plastic packaging they come in.\n** Dental Care: Non-electric toothbrushes\, toothpaste tubes\, & floss containers. All brands\, plus toothbrush packaging.\n**Brita: Brita dispenser\, Brita pitchers\, Brita bottles\, Brita standard filters\, Brita Stream filters\, Brita bottle filters\, Brita filter packaging\, Brita Longlast® filters\, Brita Stream® pitchers.\n**Burt’s Bees empty product containers and packaging\n\nIMPORTANT CHANGE: No deodorant or mouthwash bottles accepted as of January 1\, 2025. Please place mouthwash bottles (with cap on) into curbside recycling carts.\n\nVOLUNTEERS\, Please reach out to zerowastesalemma@gmail.com to sign up.
URL:https://greensalem.com/event/zero-waste-salem-free-book-swap-terracycle-collection-2/
LOCATION:Community Life center\, 401 Bridge St\, Salem\, MA\, 01970\, United States
END:VEVENT
BEGIN:VEVENT
DTSTART;TZID=America/New_York:20260926T080000
DTEND;TZID=America/New_York:20260926T120000
DTSTAMP:20260424T075459
CREATED:20251223T170745Z
LAST-MODIFIED:20251223T170745Z
UID:8631-1790409600-1790424000@greensalem.com
SUMMARY:E-Waste Recycling Event
DESCRIPTION:$20 cash or check\, per unit: TVs\, Monitors\, Microwaves\, dehumidifiers\, ACs\, vacuum cleaners. \n$40 cash or check\, per unit: Refrigerators\, Exercise Equipment\, battery-powered lawn equipment\, free-standing electronic devices such as fireplaces\, heaters\, air hockey tables\, etc.   \nAll Other Electronic Items: FREE Including: Computer towers\, laptops\, tablets\, cellphones\, small appliances\, household electronics including phones\, printers\, fax machines\, cd players\, etc.     \nIf your item is still in good working condition\, consider donating it via one of the local Buy Nothing pages or other swap groups. \n2026 E-Waste Flyer
URL:https://greensalem.com/event/e-waste-recycling-event-14/
LOCATION:Salem High School\, 77 Willson Street\, Salem\, MA\, 01970\, United States
END:VEVENT
BEGIN:VEVENT
DTSTART;TZID=America/New_York:20261107T090000
DTEND;TZID=America/New_York:20261107T120000
DTSTAMP:20260424T075459
CREATED:20260127T175521Z
LAST-MODIFIED:20260127T175521Z
UID:8654-1794042000-1794052800@greensalem.com
SUMMARY:Repair Cafe and TerraCycle Collection
DESCRIPTION:Don’t throw away your broken item – bring it to the Repair Café!  Zero Waste Salem will be hosting a Repair Café on Saturday\, November 7 from 9am-12 noon at the Community Life Center at 401 Bridge Street.  Appointments are required and walk-ins will not be accepted. Pre-registration is required via link (stay tuned for updates) or email zerowastesalemma@gmail.com. \nRepair volunteers at this event will be available to mend clothing\, sew buttons\, and tinker with or rewire electronics and lamps. Please keep in mind these services may change as we confirm volunteers. We hope to see you at this fun event where you can learn how to fix things and reduce your waste! \nTERRACYCLE — We’re collecting FIVE TerraCycle brigades of otherwise hard-to-recycle items. Please keep each TerraCycle stream separate.\n** Swiffers: All used\, dried Swiffer pads.\n** Razors: All brands of reusable and disposable razors\, blades & cartridges\, as well as any flexible or rigid plastic packaging they come in.\n** Dental Care: Non-electric toothbrushes\, toothpaste tubes\, & floss containers. All brands\, plus toothbrush packaging.\n**Brita: Brita dispenser\, Brita pitchers\, Brita bottles\, Brita standard filters\, Brita Stream filters\, Brita bottle filters\, Brita filter packaging\, Brita Longlast® filters\, Brita Stream® pitchers.\n**Burt’s Bees – Burt’s Bees lip balm\, tinted lip care\, and lip treatment packaging; Burt’s Bees tubes\, caps\, wands\, bottles\, and pumps; outer packaging for Burt’s Bees towelettes and sheet mask; Burt’s Bees plastic compacts.\n\nIMPORTANT CHANGE: No deodorant or mouthwash bottles accepted as of January 1\, 2025. Please place mouthwash bottles with cap on into curbside recycling carts.
URL:https://greensalem.com/event/repair-cafe-terracycle-collection-9/
LOCATION:MA
END:VEVENT
BEGIN:VEVENT
DTSTART;TZID=America/New_York:20261212T080000
DTEND;TZID=America/New_York:20261212T120000
DTSTAMP:20260424T075459
CREATED:20251223T170818Z
LAST-MODIFIED:20251223T170818Z
UID:8633-1797062400-1797076800@greensalem.com
SUMMARY:E-Waste Recycling Event
DESCRIPTION:$20 cash or check\, per unit: TVs\, Monitors\, Microwaves\, dehumidifiers\, ACs\, vacuum cleaners. \n$40 cash or check\, per unit: Refrigerators\, Exercise Equipment\, battery-powered lawn equipment\, free-standing electronic devices such as fireplaces\, heaters\, air hockey tables\, etc.   \nAll Other Electronic Items: FREE Including: Computer towers\, laptops\, tablets\, cellphones\, small appliances\, household electronics including phones\, printers\, fax machines\, cd players\, etc.     \nIf your item is still in good working condition\, consider donating it via one of the local Buy Nothing pages or other swap groups. \n2026 E-Waste Flyer
URL:https://greensalem.com/event/e-waste-recycling-event-15/
LOCATION:Salem High School\, 77 Willson Street\, Salem\, MA\, 01970\, United States
END:VEVENT
END:VCALENDAR